BEGIN:VCALENDAR
VERSION:2.0
PRODID:-//Ashdale Secondary College - ECPv5.3.1.1//NONSGML v1.0//EN
CALSCALE:GREGORIAN
METHOD:PUBLISH
X-WR-CALNAME:Ashdale Secondary College
X-ORIGINAL-URL:https://ashdalesc.wa.edu.au
X-WR-CALDESC:Events for Ashdale Secondary College
BEGIN:VTIMEZONE
TZID:Asia/Shanghai
BEGIN:STANDARD
TZOFFSETFROM:+0800
TZOFFSETTO:+0800
TZNAME:CST
DTSTART:20210101T000000
END:STANDARD
END:VTIMEZONE
BEGIN:VEVENT
DTSTART;VALUE=DATE:20210201
DTEND;VALUE=DATE:20210202
DTSTAMP:20210223T054418
CREATED:20201124T015131Z
LAST-MODIFIED:20201124T015131Z
UID:27021-1612137600-1612223999@ashdalesc.wa.edu.au
SUMMARY:Term 1 2021 commences
DESCRIPTION:
URL:https://ashdalesc.wa.edu.au/event/term-1-2021-commences/
CATEGORIES:Term dates
END:VEVENT
BEGIN:VEVENT
DTSTART;TZID=Asia/Shanghai:20210215T170000
DTEND;TZID=Asia/Shanghai:20210215T183000
DTSTAMP:20210223T054418
CREATED:20210209T044557Z
LAST-MODIFIED:20210209T044557Z
UID:27097-1613408400-1613413800@ashdalesc.wa.edu.au
SUMMARY:2021 Community BBQ
DESCRIPTION:Join us for our Community BBQ where you can meet the College teachers and leadership team\, and tour the College facilities.\n\n\n\n\n\n\n\nStudents and parents are invited to attend our “Community BBQ”. This will be held at the College on Monday 15 February 2021 from 5.00 – 6.30 pm. This evening is an informal event where you can meet the College teachers and leadership team\, and tour the College facilities. \n**This event will only take place if post-lockdown restrictions are lifted on Sunday morning. \nPLEASE NOTE: The College P&C Committee will be holding their Annual General Meeting (AGM) in the College Boardroom at 6 pm. All parents/caregivers are invited to attend. \nThe P&C Committee is an important part of the school community and provides an opportunity for parents to support the College in decision-making processes and the provision of valuable resources. \nPlease send through any dietary requirements to ashdale.sc@education.wa.edu.au.
URL:https://ashdalesc.wa.edu.au/event/2021-community-bbq/
LOCATION:Ashdale Secondary College\, 75 Westport Parade\, Darch\, Western Australia\, 6065\, Australia
END:VEVENT
BEGIN:VEVENT
DTSTART;TZID=Asia/Shanghai:20210215T180000
DTEND;TZID=Asia/Shanghai:20210215T183000
DTSTAMP:20210223T054418
CREATED:20210209T044912Z
LAST-MODIFIED:20210209T044912Z
UID:27099-1613412000-1613413800@ashdalesc.wa.edu.au
SUMMARY:ASC P&C Committee Annual General Meeting
DESCRIPTION:The College P&C Committee will be holding their Annual General Meeting (AGM) in the College Boardroom at 6 pm. All parents/caregivers are invited to attend. \nThe P&C Committee is an important part of the school community and provides an opportunity for parents to support the College in decision-making processes and the provision of valuable resources.
URL:https://ashdalesc.wa.edu.au/event/asc-pc-committee-annual-general-meeting/
LOCATION:Ashdale Secondary College\, 75 Westport Parade\, Darch\, Western Australia\, 6065\, Australia
CATEGORIES:Parent
END:VEVENT
BEGIN:VEVENT
DTSTART;VALUE=DATE:20210226
DTEND;VALUE=DATE:20210227
DTSTAMP:20210223T054418
CREATED:20201124T015226Z
LAST-MODIFIED:20201124T015226Z
UID:27023-1614297600-1614383999@ashdalesc.wa.edu.au
SUMMARY:Pupil Free Day (Term 1)
DESCRIPTION:
URL:https://ashdalesc.wa.edu.au/event/pupil-free-day-term-1/
CATEGORIES:Pupil Free Days
END:VEVENT
END:VCALENDAR